BEGIN:VCALENDAR
VERSION:2.0
PRODID:-//AMC94 - ECPv6.15.20//NONSGML v1.0//EN
CALSCALE:GREGORIAN
METHOD:PUBLISH
X-ORIGINAL-URL:https://www.amc94.fr
X-WR-CALDESC:Évènements pour AMC94
REFRESH-INTERVAL;VALUE=DURATION:PT1H
X-Robots-Tag:noindex
X-PUBLISHED-TTL:PT1H
BEGIN:VTIMEZONE
TZID:Europe/Paris
BEGIN:DAYLIGHT
TZOFFSETFROM:+0100
TZOFFSETTO:+0200
TZNAME:CEST
DTSTART:20220327T010000
END:DAYLIGHT
BEGIN:STANDARD
TZOFFSETFROM:+0200
TZOFFSETTO:+0100
TZNAME:CET
DTSTART:20221030T010000
END:STANDARD
BEGIN:DAYLIGHT
TZOFFSETFROM:+0100
TZOFFSETTO:+0200
TZNAME:CEST
DTSTART:20230326T010000
END:DAYLIGHT
BEGIN:STANDARD
TZOFFSETFROM:+0200
TZOFFSETTO:+0100
TZNAME:CET
DTSTART:20231029T010000
END:STANDARD
BEGIN:DAYLIGHT
TZOFFSETFROM:+0100
TZOFFSETTO:+0200
TZNAME:CEST
DTSTART:20240331T010000
END:DAYLIGHT
BEGIN:STANDARD
TZOFFSETFROM:+0200
TZOFFSETTO:+0100
TZNAME:CET
DTSTART:20241027T010000
END:STANDARD
END:VTIMEZONE
BEGIN:VEVENT
DTSTART;TZID=Europe/Paris:20231118T180000
DTEND;TZID=Europe/Paris:20231118T230000
DTSTAMP:20260424T203642
CREATED:20230127T224555Z
LAST-MODIFIED:20230127T224555Z
UID:2646-1700330400-1700348400@www.amc94.fr
SUMMARY:Assemblée générale 2023
DESCRIPTION:Assemblée générale 2023
URL:https://www.amc94.fr/evenement/assemblee-generale-2023/
LOCATION:Maison pour tous\, Avenue de Bretagne\, La Queue-en-Brie\, 94510
CATEGORIES:Assemblée générale
ORGANIZER;CN="AMC94":MAILTO:amc.94@free.fr
END:VEVENT
END:VCALENDAR