BEGIN:VCALENDAR
VERSION:2.0
PRODID:-//AMC94 - ECPv6.15.20//NONSGML v1.0//EN
CALSCALE:GREGORIAN
METHOD:PUBLISH
X-ORIGINAL-URL:https://www.amc94.fr
X-WR-CALDESC:Évènements pour AMC94
REFRESH-INTERVAL;VALUE=DURATION:PT1H
X-Robots-Tag:noindex
X-PUBLISHED-TTL:PT1H
BEGIN:VTIMEZONE
TZID:Europe/Paris
BEGIN:DAYLIGHT
TZOFFSETFROM:+0100
TZOFFSETTO:+0200
TZNAME:CEST
DTSTART:20230326T010000
END:DAYLIGHT
BEGIN:STANDARD
TZOFFSETFROM:+0200
TZOFFSETTO:+0100
TZNAME:CET
DTSTART:20231029T010000
END:STANDARD
BEGIN:DAYLIGHT
TZOFFSETFROM:+0100
TZOFFSETTO:+0200
TZNAME:CEST
DTSTART:20240331T010000
END:DAYLIGHT
BEGIN:STANDARD
TZOFFSETFROM:+0200
TZOFFSETTO:+0100
TZNAME:CET
DTSTART:20241027T010000
END:STANDARD
BEGIN:DAYLIGHT
TZOFFSETFROM:+0100
TZOFFSETTO:+0200
TZNAME:CEST
DTSTART:20250330T010000
END:DAYLIGHT
BEGIN:STANDARD
TZOFFSETFROM:+0200
TZOFFSETTO:+0100
TZNAME:CET
DTSTART:20251026T010000
END:STANDARD
END:VTIMEZONE
BEGIN:VEVENT
DTSTART;TZID=Europe/Paris:20241123T180000
DTEND;TZID=Europe/Paris:20241123T220000
DTSTAMP:20260424T054521
CREATED:20241009T171730Z
LAST-MODIFIED:20241009T171730Z
UID:2996-1732384800-1732399200@www.amc94.fr
SUMMARY:Assemblée générale 2024
DESCRIPTION:L’assemblée générale annuelle de l’AMC se tiendra le samedi 23 novembre à 18h à la maison pour tous de La Queue en Brie. \nCette AG sera suivie d’un apéritif offert par le club et d’un dîner sur place comme à son habitude. \nVous recevrez une convocation pour l’occasion prochainement.
URL:https://www.amc94.fr/evenement/assemblee-generale-2024/
LOCATION:Maison pour tous\, Avenue de Bretagne\, La Queue-en-Brie\, 94510
CATEGORIES:Assemblée générale
ORGANIZER;CN="AMC94":MAILTO:amc.94@free.fr
END:VEVENT
END:VCALENDAR