BEGIN:VCALENDAR
VERSION:2.0
PRODID:-//AMC94 - ECPv6.15.20//NONSGML v1.0//EN
CALSCALE:GREGORIAN
METHOD:PUBLISH
X-ORIGINAL-URL:https://www.amc94.fr
X-WR-CALDESC:Évènements pour AMC94
REFRESH-INTERVAL;VALUE=DURATION:PT1H
X-Robots-Tag:noindex
X-PUBLISHED-TTL:PT1H
BEGIN:VTIMEZONE
TZID:Europe/Paris
BEGIN:DAYLIGHT
TZOFFSETFROM:+0100
TZOFFSETTO:+0200
TZNAME:CEST
DTSTART:20240331T010000
END:DAYLIGHT
BEGIN:STANDARD
TZOFFSETFROM:+0200
TZOFFSETTO:+0100
TZNAME:CET
DTSTART:20241027T010000
END:STANDARD
BEGIN:DAYLIGHT
TZOFFSETFROM:+0100
TZOFFSETTO:+0200
TZNAME:CEST
DTSTART:20250330T010000
END:DAYLIGHT
BEGIN:STANDARD
TZOFFSETFROM:+0200
TZOFFSETTO:+0100
TZNAME:CET
DTSTART:20251026T010000
END:STANDARD
BEGIN:DAYLIGHT
TZOFFSETFROM:+0100
TZOFFSETTO:+0200
TZNAME:CEST
DTSTART:20260329T010000
END:DAYLIGHT
BEGIN:STANDARD
TZOFFSETFROM:+0200
TZOFFSETTO:+0100
TZNAME:CET
DTSTART:20261025T010000
END:STANDARD
END:VTIMEZONE
BEGIN:VEVENT
DTSTART;TZID=Europe/Paris:20250524T100000
DTEND;TZID=Europe/Paris:20250524T170000
DTSTAMP:20260422T201640
CREATED:20241207T212736Z
LAST-MODIFIED:20250520T180922Z
UID:3023-1748080800-1748106000@www.amc94.fr
SUMMARY:Journée entretien du terrain
DESCRIPTION:Journée entretien du terrain du 22 mars reportée au samedi 24 mai !
URL:https://www.amc94.fr/evenement/journee-entretien-du-terrain-2025/
LOCATION:Terrain de l’AMC94\, Chemin de la Croix Saint Nicolas\, La Queue en Brie\, 94510\, France
CATEGORIES:Entretien du terrain,Journées Club
ORGANIZER;CN="AMC94":MAILTO:amc.94@free.fr
END:VEVENT
END:VCALENDAR