BEGIN:VCALENDAR
VERSION:2.0
PRODID:-//AMC94 - ECPv6.15.20//NONSGML v1.0//EN
CALSCALE:GREGORIAN
METHOD:PUBLISH
X-ORIGINAL-URL:https://www.amc94.fr
X-WR-CALDESC:Évènements pour AMC94
REFRESH-INTERVAL;VALUE=DURATION:PT1H
X-Robots-Tag:noindex
X-PUBLISHED-TTL:PT1H
BEGIN:VTIMEZONE
TZID:Europe/Paris
BEGIN:DAYLIGHT
TZOFFSETFROM:+0100
TZOFFSETTO:+0200
TZNAME:CEST
DTSTART:20220327T010000
END:DAYLIGHT
BEGIN:STANDARD
TZOFFSETFROM:+0200
TZOFFSETTO:+0100
TZNAME:CET
DTSTART:20221030T010000
END:STANDARD
BEGIN:DAYLIGHT
TZOFFSETFROM:+0100
TZOFFSETTO:+0200
TZNAME:CEST
DTSTART:20230326T010000
END:DAYLIGHT
BEGIN:STANDARD
TZOFFSETFROM:+0200
TZOFFSETTO:+0100
TZNAME:CET
DTSTART:20231029T010000
END:STANDARD
BEGIN:DAYLIGHT
TZOFFSETFROM:+0100
TZOFFSETTO:+0200
TZNAME:CEST
DTSTART:20240331T010000
END:DAYLIGHT
BEGIN:STANDARD
TZOFFSETFROM:+0200
TZOFFSETTO:+0100
TZNAME:CET
DTSTART:20241027T010000
END:STANDARD
END:VTIMEZONE
BEGIN:VEVENT
DTSTART;TZID=Europe/Paris:20230514T140000
DTEND;TZID=Europe/Paris:20230514T170000
DTSTAMP:20260425T052233
CREATED:20230127T221738Z
LAST-MODIFIED:20230514T090424Z
UID:2622-1684072800-1684083600@www.amc94.fr
SUMMARY:Journée combat à la banderole n°2 : ANNULÉ
DESCRIPTION:Journée combat à la banderole n°2
URL:https://www.amc94.fr/evenement/journee-combat-a-la-banderole-n2/
LOCATION:Terrain de l’AMC94\, Chemin de la Croix Saint Nicolas\, La Queue en Brie\, 94510\, France
CATEGORIES:Combat,Journées Club
ORGANIZER;CN="AMC94":MAILTO:amc.94@free.fr
END:VEVENT
END:VCALENDAR