BEGIN:VCALENDAR
VERSION:2.0
PRODID:-//AMC94 - ECPv6.15.20//NONSGML v1.0//EN
CALSCALE:GREGORIAN
METHOD:PUBLISH
X-ORIGINAL-URL:https://www.amc94.fr
X-WR-CALDESC:Évènements pour AMC94
REFRESH-INTERVAL;VALUE=DURATION:PT1H
X-Robots-Tag:noindex
X-PUBLISHED-TTL:PT1H
BEGIN:VTIMEZONE
TZID:Europe/Paris
BEGIN:DAYLIGHT
TZOFFSETFROM:+0100
TZOFFSETTO:+0200
TZNAME:CEST
DTSTART:20230326T010000
END:DAYLIGHT
BEGIN:STANDARD
TZOFFSETFROM:+0200
TZOFFSETTO:+0100
TZNAME:CET
DTSTART:20231029T010000
END:STANDARD
BEGIN:DAYLIGHT
TZOFFSETFROM:+0100
TZOFFSETTO:+0200
TZNAME:CEST
DTSTART:20240331T010000
END:DAYLIGHT
BEGIN:STANDARD
TZOFFSETFROM:+0200
TZOFFSETTO:+0100
TZNAME:CET
DTSTART:20241027T010000
END:STANDARD
BEGIN:DAYLIGHT
TZOFFSETFROM:+0100
TZOFFSETTO:+0200
TZNAME:CEST
DTSTART:20250330T010000
END:DAYLIGHT
BEGIN:STANDARD
TZOFFSETFROM:+0200
TZOFFSETTO:+0100
TZNAME:CET
DTSTART:20251026T010000
END:STANDARD
END:VTIMEZONE
BEGIN:VEVENT
DTSTART;TZID=Europe/Paris:20240526T140000
DTEND;TZID=Europe/Paris:20240526T170000
DTSTAMP:20260424T112530
CREATED:20240212T121927Z
LAST-MODIFIED:20240525T191953Z
UID:2804-1716732000-1716742800@www.amc94.fr
SUMMARY:Journée combat à la banderole #2 : ANNULÉ
DESCRIPTION:Journée combat à la banderole 2024 #2
URL:https://www.amc94.fr/evenement/journee-combat-a-la-banderole-2/
LOCATION:Terrain de l’AMC94\, Chemin de la Croix Saint Nicolas\, La Queue en Brie\, 94510\, France
CATEGORIES:Combat,Journées Club
ORGANIZER;CN="AMC94":MAILTO:amc.94@free.fr
END:VEVENT
END:VCALENDAR